BEGIN:VCALENDAR
VERSION:2.0
PRODID:-//wp-events-plugin.com//7.2.3.1//EN
BEGIN:VEVENT
UID:178@blog.ukxxxpass.xxx
DTSTART:20231005T200000Z
DTEND:20231005T233000Z
DTSTAMP:20230919T194700Z
URL:https://blog.ukxxxpass.xxx/events/gangbang-5th-october-birmingham/
SUMMARY:Gangbang 5th October in Birmingham
DESCRIPTION:Gangbang party 5th October 8pm at The Private Club\, Aston\, Bi
 rmingham. Featuring stunning duo Pixie Peach and Ganjababe. Come and join 
 in!
ATTACH;FMTTYPE=image/jpeg:https://i0.wp.com/blog.ukxxxpass.xxx/wp-content/
 uploads/2023/09/Oct5th_Birmingham-scaled.jpg?fit=1810%2C2560&ssl=1
LOCATION:The Private Club\, Wainwright Street\, Aston\, West Midlands\, B6 
 5TJ\, Birmingham\, United Kingdom
GEO:52.5002541;-1.8779884000000493
X-APPLE-STRUCTURED-LOCATION;VALUE=URI;X-ADDRESS=Wainwright Street\, Aston\,
  West Midlands\, B6 5TJ\, Birmingham\, United Kingdom;X-APPLE-RADIUS=100;X
 -TITLE=The Private Club:geo:52.5002541,-1.8779884000000493
END:VEVENT
END:VCALENDAR