BEGIN:VCALENDAR
VERSION:2.0
PRODID:-//wp-events-plugin.com//7.2.3.1//EN
BEGIN:VEVENT
UID:48@blog.ukxxxpass.xxx
DTSTART:20170727T200000Z
DTEND:20170727T223000Z
DTSTAMP:20170704T205811Z
URL:https://blog.ukxxxpass.xxx/events/gangbang-catalia-valentine-gina-jame
 son/
SUMMARY:Gangbang party WALSALL\, 27th July with Catalia Valentine and Gina 
 Lynn Jameson
DESCRIPTION:27th July 2017 - Bukkake and Gangbang party in Walsall\, 8pm at
  r3troclub. Featuring sexy new model Catalia Valentine and gorgeous Gina L
 ynn Jameson
ATTACH;FMTTYPE=image/jpeg:https://i0.wp.com/blog.ukxxxpass.xxx/wp-content/
 uploads/2017/07/July27th.jpg?fit=905%2C1280&ssl=1
LOCATION:r3troclub\, 33 Midland Road\, Walsall\, West Midlands\, WS1 3QQ\, 
 United Kingdom
GEO:52.5816332;-1.9858131999999387
X-APPLE-STRUCTURED-LOCATION;VALUE=URI;X-ADDRESS=33 Midland Road\, Walsall\,
  West Midlands\, WS1 3QQ\, United Kingdom;X-APPLE-RADIUS=100;X-TITLE=r3tro
 club:geo:52.5816332,-1.9858131999999387
END:VEVENT
END:VCALENDAR