BEGIN:VCALENDAR
VERSION:2.0
PRODID:-//wp-events-plugin.com//7.2.3.1//EN
BEGIN:VEVENT
UID:91@blog.ukxxxpass.xxx
DTSTART:20190612T200000Z
DTEND:20190612T223000Z
DTSTAMP:20190521T214619Z
URL:https://blog.ukxxxpass.xxx/events/gangbang-party-12th-june-april-paisl
 ey-cherri-english-sarah-slave/
SUMMARY:Gangbang party 12th June with April Paisley\, Cherri English and Sa
 rah Slave
DESCRIPTION:Bukkake and gangbang party\, 12th June 8pm Birmingham at The Pr
 ivate Club. Featuring young stunner Cherri English\, April Paisley and Ita
 lian model Sarah Slave. Come along and join in!
ATTACH;FMTTYPE=image/jpeg:https://i0.wp.com/blog.ukxxxpass.xxx/wp-content/
 uploads/2019/05/June12th_Birmingham.jpg?fit=913%2C1280&ssl=1
END:VEVENT
END:VCALENDAR