BEGIN:VCALENDAR
VERSION:2.0
PRODID:-//wp-events-plugin.com//7.2.3.1//EN
BEGIN:VEVENT
UID:93@blog.ukxxxpass.xxx
DTSTART:20190718T200000Z
DTEND:20190718T230000Z
DTSTAMP:20190713T060549Z
URL:https://blog.ukxxxpass.xxx/events/gangbang-party-18th-july-roxy-lace-c
 herri/
SUMMARY:Gangbang party 18th July with Roxy Lace and Cherri
DESCRIPTION:Bukkake and gangbang party\, 18th July\, 8pm Birmingham at The 
 Private Club. Featuring NEW model Roxy Lace and succulent Cherri. Come alo
 ng and join in!
ATTACH;FMTTYPE=image/jpeg:https://i0.wp.com/blog.ukxxxpass.xxx/wp-content/
 uploads/2019/06/July18th_BHAM-1.jpg?fit=905%2C1280&ssl=1
LOCATION:The Private Club\, Wainwright Street\, Aston\, West Midlands\, B6 
 5TJ\, Birmingham\, United Kingdom
GEO:52.5002541;-1.8779884000000493
X-APPLE-STRUCTURED-LOCATION;VALUE=URI;X-ADDRESS=Wainwright Street\, Aston\,
  West Midlands\, B6 5TJ\, Birmingham\, United Kingdom;X-APPLE-RADIUS=100;X
 -TITLE=The Private Club:geo:52.5002541,-1.8779884000000493
END:VEVENT
END:VCALENDAR