BEGIN:VCALENDAR
VERSION:2.0
PRODID:-//wp-events-plugin.com//7.2.3.1//EN
BEGIN:VEVENT
UID:38@blog.ukxxxpass.xxx
DTSTART:20170302T200000Z
DTEND:20170302T223000Z
DTSTAMP:20170202T224011Z
URL:https://blog.ukxxxpass.xxx/events/gangbang-party-isabella-bangs-lexi-r
 yder/
SUMMARY:Gangbang party WALSALL\, 2nd March with Isabella Bangs and Lexi Ryd
 er
DESCRIPTION:March 2nd 2017. Bukkake and gangbang party at r3troclub with se
 xy pornstar models Isabella Bangs and Lexi Ryder
ATTACH;FMTTYPE=image/jpeg:https://i0.wp.com/blog.ukxxxpass.xxx/wp-content/
 uploads/2017/02/March2nd.jpg?fit=905%2C1280&ssl=1
LOCATION:r3troclub\, 33 Midland Road\, Walsall\, West Midlands\, WS1 3QQ\, 
 United Kingdom
GEO:52.5816332;-1.9858131999999387
X-APPLE-STRUCTURED-LOCATION;VALUE=URI;X-ADDRESS=33 Midland Road\, Walsall\,
  West Midlands\, WS1 3QQ\, United Kingdom;X-APPLE-RADIUS=100;X-TITLE=r3tro
 club:geo:52.5816332,-1.9858131999999387
END:VEVENT
END:VCALENDAR