BEGIN:VCALENDAR
VERSION:2.0
PRODID:-//wp-events-plugin.com//7.2.3.1//EN
BEGIN:VEVENT
UID:73@blog.ukxxxpass.xxx
DTSTART:20180726T200000Z
DTEND:20180726T223000Z
DTSTAMP:20180721T215317Z
URL:https://blog.ukxxxpass.xxx/events/gangbang-party-walsall-26th-july-lol
 a-marie-tallulah/
SUMMARY:Gangbang party WALSALL\, 26th July with Lola Marie and Tallulah
DESCRIPTION:Bukkake and gangbang party\, 26th July. 8pm Walsall at r3troclu
 b. Featuring gorgeous ebony babe Lola Marie and stunning alt pornstar Tall
 ulah Thorn. Come along and join in!
ATTACH;FMTTYPE=image/jpeg:https://i0.wp.com/blog.ukxxxpass.xxx/wp-content/
 uploads/2018/07/July_26_WALSALL-2.jpg?fit=905%2C1280&ssl=1
LOCATION:r3troclub\, 33 Midland Road\, Walsall\, West Midlands\, WS1 3QQ\, 
 United Kingdom
GEO:52.5818095;-1.9855268000000024
X-APPLE-STRUCTURED-LOCATION;VALUE=URI;X-ADDRESS=33 Midland Road\, Walsall\,
  West Midlands\, WS1 3QQ\, United Kingdom;X-APPLE-RADIUS=100;X-TITLE=r3tro
 club:geo:52.5818095,-1.9855268000000024
END:VEVENT
END:VCALENDAR