BEGIN:VCALENDAR
VERSION:2.0
PRODID:-//wp-events-plugin.com//7.2.3.1//EN
BEGIN:VEVENT
UID:83@blog.ukxxxpass.xxx
DTSTART:20190206T200000Z
DTEND:20190206T223000Z
DTSTAMP:20190106T193535Z
URL:https://blog.ukxxxpass.xxx/events/gangbang-party-walsall-6th-feb-louis
 e-lee-isabel-dean/
SUMMARY:Gangbang party WALSALL\, 6th February with Louise Lee and Isabel De
 an
DESCRIPTION:Bukkake and gangbang party\, 6th February 8pm Walsall at The Fa
 ntasy Den. Featuring stunning NEW model Louise Lee and the return of Isabe
 l Dean. Come along and join in!
ATTACH;FMTTYPE=image/jpeg:https://i0.wp.com/blog.ukxxxpass.xxx/wp-content/
 uploads/2019/01/February6th_Walsall.jpg?fit=905%2C1280&ssl=1
END:VEVENT
END:VCALENDAR