BEGIN:VCALENDAR
VERSION:2.0
PRODID:-//wp-events-plugin.com//7.2.3.1//EN
BEGIN:VEVENT
UID:64@blog.ukxxxpass.xxx
DTSTART:20180329T200000Z
DTEND:20180329T223000Z
DTSTAMP:20180306T192304Z
URL:https://blog.ukxxxpass.xxx/events/gangbang-walsall-29th-march-phoenix-
 madina-sexy-cleo/
SUMMARY:Gangbang party WALSALL\, 29th March
DESCRIPTION:Bukkake and gangbang party\, 29th March 2018. 8pm Walsall at r3
 troclub. Featuring Gorgeous models Phoenix Madina and Sexy Cleo! Come alon
 g and join in.
ATTACH;FMTTYPE=image/jpeg:https://i0.wp.com/blog.ukxxxpass.xxx/wp-content/
 uploads/2018/03/Mar_29_WALSALL.jpg?fit=905%2C1280&ssl=1
LOCATION:r3troclub\, 33 Midland Road\, Walsall\, West Midlands\, WS1 3QQ\, 
 United Kingdom
GEO:52.5816332;-1.9858131999999387
X-APPLE-STRUCTURED-LOCATION;VALUE=URI;X-ADDRESS=33 Midland Road\, Walsall\,
  West Midlands\, WS1 3QQ\, United Kingdom;X-APPLE-RADIUS=100;X-TITLE=r3tro
 club:geo:52.5816332,-1.9858131999999387
END:VEVENT
END:VCALENDAR