BEGIN:VCALENDAR
VERSION:2.0
PRODID:-//wp-events-plugin.com//7.2.3.1//EN
BEGIN:VEVENT
UID:101@blog.ukxxxpass.xxx
DTSTART:20191030T200000Z
DTEND:20191030T230000Z
DTSTAMP:20191010T180154Z
URL:https://blog.ukxxxpass.xxx/events/halloween-superparty-30th-oct/
SUMMARY:Halloween SUPERPARTY Gangbang
DESCRIPTION:Halloween SUPERPARTY 30th October\, 8pm Walsall\, featuring Ale
 xxavice\, Rebecca Smyth\, Talula Thomas and Harleys Sin. Come along and jo
 in in!
ATTACH;FMTTYPE=image/jpeg:https://i0.wp.com/blog.ukxxxpass.xxx/wp-content/
 uploads/2019/10/Oct30th_Walsall.jpg?fit=886%2C1280&ssl=1
LOCATION:The Fantasy Den\, 33 Midland Road\, Walsall\, West Midlands\, WS1 
 3QQ\, United Kingdom
X-APPLE-STRUCTURED-LOCATION;VALUE=URI;X-ADDRESS=33 Midland Road\, Walsall\,
  West Midlands\, WS1 3QQ\, United Kingdom;X-APPLE-RADIUS=100;X-TITLE=The F
 antasy Den:geo:0,0
END:VEVENT
END:VCALENDAR