BEGIN:VCALENDAR
VERSION:2.0
PRODID:-//wp-events-plugin.com//7.2.3.1//EN
BEGIN:VEVENT
UID:165@blog.ukxxxpass.xxx
DTSTART:20230504T200000Z
DTEND:20230504T233000Z
DTSTAMP:20230417T082934Z
URL:https://blog.ukxxxpass.xxx/events/inked-baddies-corelynn-suicide-pixie
 -peach/
SUMMARY:'Inked Baddies' Party 4th May with Corelynn Suicide and Pixie Peach
DESCRIPTION:'Inked Baddies' Party 4th May with Corelynn Suicide and Pixie P
 each. 8pm at the Private Club\, Birmingham. Come and join in!
ATTACH;FMTTYPE=image/jpeg:https://i0.wp.com/blog.ukxxxpass.xxx/wp-content/
 uploads/2023/04/May4th_Birmingham-scaled.jpg?fit=1810%2C2560&ssl=1
LOCATION:The Private Club\, Wainwright Street\, Aston\, West Midlands\, B6 
 5TJ\, Birmingham\, United Kingdom
GEO:52.5002541;-1.8779884000000493
X-APPLE-STRUCTURED-LOCATION;VALUE=URI;X-ADDRESS=Wainwright Street\, Aston\,
  West Midlands\, B6 5TJ\, Birmingham\, United Kingdom;X-APPLE-RADIUS=100;X
 -TITLE=The Private Club:geo:52.5002541,-1.8779884000000493
END:VEVENT
END:VCALENDAR