BEGIN:VCALENDAR
VERSION:2.0
PRODID:-//wp-events-plugin.com//7.2.3.1//EN
BEGIN:VEVENT
UID:33@blog.ukxxxpass.xxx
DTSTART:20170126T200000Z
DTEND:20170126T223000Z
DTSTAMP:20170118T194747Z
URL:https://blog.ukxxxpass.xxx/events/jan26th-bukkake-gangbang-party-angie
 -hotboxx-skyler-mackay/
SUMMARY:Bukkake and gangbang party with Angie Hotboxx and Skyler Mackay
DESCRIPTION:January 26th 2017. Sexy blonde Angie Hotboxx joins us for her f
 irst gangbang party\, joined by fabulous UK pornstar Skyer Mackay.
ATTACH;FMTTYPE=image/jpeg:https://i0.wp.com/blog.ukxxxpass.xxx/wp-content/
 uploads/2017/01/January26th.jpg?fit=2480%2C3508&ssl=1
LOCATION:The Private Club\, Wainwright Street\, Aston\, West Midlands\, B6 
 5TJ\, Birmingham\, United Kingdom
GEO:52.5002541;-1.8779884000000493
X-APPLE-STRUCTURED-LOCATION;VALUE=URI;X-ADDRESS=Wainwright Street\, Aston\,
  West Midlands\, B6 5TJ\, Birmingham\, United Kingdom;X-APPLE-RADIUS=100;X
 -TITLE=The Private Club:geo:52.5002541,-1.8779884000000493
END:VEVENT
END:VCALENDAR