BEGIN:VCALENDAR
VERSION:2.0
PRODID:-//wp-events-plugin.com//7.2.3.1//EN
BEGIN:VEVENT
UID:18@blog.ukxxxpass.xxx
DTSTART:20160726T200000Z
DTEND:20160726T223000Z
DTSTAMP:20160707T205523Z
URL:https://blog.ukxxxpass.xxx/events/july-26th-bukkake-gangbang-tyla-moor
 e-isabella-bangs/
SUMMARY:July 26th bukkake and gangbang party with Tyla Moore and Isabella B
 angs
DESCRIPTION:July 26th bukkake and gangbang party with Tyla Moore and Isabel
 la Bangs
ATTACH;FMTTYPE=image/jpeg:https://i0.wp.com/blog.ukxxxpass.xxx/wp-content/
 uploads/2016/07/July26th_HI.jpg?fit=2480%2C3508&ssl=1
END:VEVENT
END:VCALENDAR