BEGIN:VCALENDAR
VERSION:2.0
PRODID:-//wp-events-plugin.com//7.2.3.1//EN
BEGIN:VEVENT
UID:10@blog.ukxxxpass.xxx
DTSTART:20160322T200000Z
DTEND:20160322T223000Z
DTSTAMP:20160229T200808Z
URL:https://blog.ukxxxpass.xxx/events/march-22nd-bukkake-and-gangbang-part
 y-monica-bollocksy-alice-cash/
SUMMARY:March 22nd\, bukkake and gangbang party with Monica Bollocksy and A
 lice Cash
DESCRIPTION:March 22nd\, bukkake and gangbang party with Monica Bollocksy a
 nd Alice Cash
ATTACH;FMTTYPE=image/jpeg:https://i0.wp.com/blog.ukxxxpass.xxx/wp-content/
 uploads/2016/02/March22nd.jpg?fit=905%2C1280&ssl=1
END:VEVENT
END:VCALENDAR