BEGIN:VCALENDAR
VERSION:2.0
PRODID:-//wp-events-plugin.com//7.2.3.1//EN
BEGIN:VEVENT
UID:214@blog.ukxxxpass.xxx
DTSTART:20260311T193000Z
DTEND:20260311T230000Z
DTSTAMP:20260226T114556Z
URL:https://blog.ukxxxpass.xxx/events/midlands-party-11th-march-in-birming
 ham/
SUMMARY:Midlands Party 11th March in Birmingham
DESCRIPTION:Bukkake and Gangbang\, 11 March 2026. 7:30 in Birmingham with l
 egend Lexi Ryder and Nextdoor Sophia (NEW). Come along and join in!!!
ATTACH;FMTTYPE=image/jpeg:https://i0.wp.com/blog.ukxxxpass.xxx/wp-content/
 uploads/2026/02/March26_Midlands_v2.jpg?fit=734%2C1080&ssl=1
LOCATION:The Private Club\, Wainwright Street\, Aston\, West Midlands\, B6 
 5TJ\, Birmingham\, United Kingdom
GEO:52.5002541;-1.8779884000000493
X-APPLE-STRUCTURED-LOCATION;VALUE=URI;X-ADDRESS=Wainwright Street\, Aston\,
  West Midlands\, B6 5TJ\, Birmingham\, United Kingdom;X-APPLE-RADIUS=100;X
 -TITLE=The Private Club:geo:52.5002541,-1.8779884000000493
END:VEVENT
END:VCALENDAR