BEGIN:VCALENDAR
VERSION:2.0
PRODID:-//wp-events-plugin.com//7.2.3.1//EN
BEGIN:VEVENT
UID:59@blog.ukxxxpass.xxx
DTSTART:20171207T200000Z
DTEND:20171207T223000Z
DTSTAMP:20171117T233405Z
URL:https://blog.ukxxxpass.xxx/events/midlands-xmas-bukkake-gangbang/
SUMMARY:Midlands Xmas Bukkake and gangbang party
DESCRIPTION:Thursday 7th December 8pm - Xmas bukkake and gangbang party at 
 the Private Club\, Aston\, Birmingham. Featuring gorgeous Isabella Bangs\,
  Sexy Cleo\, Classy Filth and Lexi Ryder. You're invited and welcome to jo
 in in. Masks provided for participants\, complementary refreshments and a 
 whole lot of fun.
ATTACH;FMTTYPE=image/jpeg:https://i0.wp.com/blog.ukxxxpass.xxx/wp-content/
 uploads/2017/11/Xmas7thDecBham.jpg?fit=905%2C1280&ssl=1
LOCATION:The Private Club\, Wainwright Street\, Aston\, West Midlands\, B6 
 5TJ\, Birmingham\, United Kingdom
GEO:52.5002541;-1.8779884000000493
X-APPLE-STRUCTURED-LOCATION;VALUE=URI;X-ADDRESS=Wainwright Street\, Aston\,
  West Midlands\, B6 5TJ\, Birmingham\, United Kingdom;X-APPLE-RADIUS=100;X
 -TITLE=The Private Club:geo:52.5002541,-1.8779884000000493
END:VEVENT
END:VCALENDAR