BEGIN:VCALENDAR
VERSION:2.0
PRODID:-//wp-events-plugin.com//7.2.3.1//EN
BEGIN:VEVENT
UID:172@blog.ukxxxpass.xxx
DTSTART:20230802T193000Z
DTEND:20230802T223000Z
DTSTAMP:20230727T105302Z
URL:https://blog.ukxxxpass.xxx/events/naughty-nurses-cheri-pi-mandy-foxxx/
SUMMARY:Naughty Nurses Special 2nd Aug with Cheri Pi and Mandy Foxxx
DESCRIPTION:Bristol 2nd August. Naughty nurses themed Bukkake and Gangbang 
 with Cheri Pi and Mandy Foxxx. Come along and join in!!!
ATTACH;FMTTYPE=image/jpeg:https://i0.wp.com/blog.ukxxxpass.xxx/wp-content/
 uploads/2023/07/Aug2nd_BRISTOL.jpg?fit=1275%2C1875&ssl=1
LOCATION:Dare2Swing\, 1 Alfred Street\, St. Philips\, Bristol\, BS2 ORF\, U
 nited Kingdom
X-APPLE-STRUCTURED-LOCATION;VALUE=URI;X-ADDRESS=1 Alfred Street\, St. Phili
 ps\, Bristol\, BS2 ORF\, United Kingdom;X-APPLE-RADIUS=100;X-TITLE=Dare2Sw
 ing:geo:0,0
END:VEVENT
END:VCALENDAR