BEGIN:VCALENDAR
VERSION:2.0
PRODID:-//wp-events-plugin.com//7.2.3.1//EN
BEGIN:VEVENT
UID:159@blog.ukxxxpass.xxx
DTSTART:20230307T200000Z
DTEND:20230307T233000Z
DTSTAMP:20230224T154759Z
URL:https://blog.ukxxxpass.xxx/events/naughty-skoolgirlz-party-7th-march-s
 unflower-doll-tamsin-riley/
SUMMARY:'Naughty Skoolgirls' Party 7th March with Sunflower Doll and Tamsin
  Riley
DESCRIPTION:Naughty Skoolgirlz Bukkake and Gangbang party\, 7th March in Bi
 rmingham with models Sunflower Doll and Tamsin Riley. Come and join in!
ATTACH;FMTTYPE=image/jpeg:https://i0.wp.com/blog.ukxxxpass.xxx/wp-content/
 uploads/2023/02/Mar7th_Bham.jpg?fit=1200%2C1760&ssl=1
LOCATION:The Private Club\, Wainwright Street\, Aston\, West Midlands\, B6 
 5TJ\, Birmingham\, United Kingdom
GEO:52.5002541;-1.8779884000000493
X-APPLE-STRUCTURED-LOCATION;VALUE=URI;X-ADDRESS=Wainwright Street\, Aston\,
  West Midlands\, B6 5TJ\, Birmingham\, United Kingdom;X-APPLE-RADIUS=100;X
 -TITLE=The Private Club:geo:52.5002541,-1.8779884000000493
END:VEVENT
END:VCALENDAR