BEGIN:VCALENDAR
VERSION:2.0
PRODID:-//wp-events-plugin.com//7.2.3.1//EN
BEGIN:VEVENT
UID:28@blog.ukxxxpass.xxx
DTSTART:20161124T200000Z
DTEND:20161124T223000Z
DTSTAMP:20161018T223758Z
URL:https://blog.ukxxxpass.xxx/events/nov-24th-bukkake-gangbang-sade-rose-
 pixiee-little/
SUMMARY:Nov 24th bukkake and gangbang party with Sade Rose and Pixiee Littl
 e
DESCRIPTION:November 24th bukkake and gangbang party with new ebony pornsta
 r Sade Rose and UKAP Award Winner 2016 Pixiee Little
ATTACH;FMTTYPE=image/jpeg:https://i0.wp.com/blog.ukxxxpass.xxx/wp-content/
 uploads/2016/10/Nov24th.jpg?fit=905%2C1280&ssl=1
LOCATION:Luxury apartment we call the Red Room\, Birmingham\, Birmingham\, 
 B19 3LN\, United Kingdom
GEO:52.4867716;-1.9011717999999291
X-APPLE-STRUCTURED-LOCATION;VALUE=URI;X-ADDRESS=Birmingham\, Birmingham\, B
 19 3LN\, United Kingdom;X-APPLE-RADIUS=100;X-TITLE=Luxury apartment we cal
 l the Red Room:geo:52.4867716,-1.9011717999999291
END:VEVENT
END:VCALENDAR