BEGIN:VCALENDAR
VERSION:2.0
PRODID:-//wp-events-plugin.com//7.2.3.1//EN
BEGIN:VEVENT
UID:30@blog.ukxxxpass.xxx
DTSTART:20161122T200000Z
DTEND:20161122T223000Z
DTSTAMP:20161101T231742Z
URL:https://blog.ukxxxpass.xxx/events/november-22nd-bristol-gangbang-bree-
 branning-jodee/
SUMMARY:November 22nd Bristol gangbang party with Bree Branning and Jodee
DESCRIPTION:22nd November Bristol Gangbang party and bukkake\, featuring po
 rnstar super MILF Bree Branning\, sexy Jodee and 19 y.o Jessie
ATTACH;FMTTYPE=image/jpeg:https://i0.wp.com/blog.ukxxxpass.xxx/wp-content/
 uploads/2016/11/Nov22nd.jpg?fit=905%2C1280&ssl=1
LOCATION:Top Floor Discreet apartments\, Bristol\, Bristol\, Avon\, BS15\, 
 Details to Follow\, United Kingdom
GEO:51.43989939999999;-2.5230238000000327
X-APPLE-STRUCTURED-LOCATION;VALUE=URI;X-ADDRESS=Bristol\, Bristol\, Avon\, 
 BS15\, Details to Follow\, United Kingdom;X-APPLE-RADIUS=100;X-TITLE=Top F
 loor Discreet apartments:geo:51.43989939999999,-2.5230238000000327
END:VEVENT
END:VCALENDAR