BEGIN:VCALENDAR
VERSION:2.0
PRODID:-//wp-events-plugin.com//7.2.3.1//EN
BEGIN:VEVENT
UID:25@blog.ukxxxpass.xxx
DTSTART:20161012T200000Z
DTEND:20161012T223000Z
DTSTAMP:20161007T212322Z
URL:https://blog.ukxxxpass.xxx/events/october-12th-bukkake-gangbang-tiffan
 y-morriss/
SUMMARY:October 12th bukkake and gangbang party with Samantha and Tiffany M
 orriss
DESCRIPTION:October 12th bukkake and gangbang with Samantha and Tiffany Mor
 riss
ATTACH;FMTTYPE=image/jpeg:https://i0.wp.com/blog.ukxxxpass.xxx/wp-content/
 uploads/2016/09/October12th-1.jpg?fit=905%2C1280&ssl=1
LOCATION:The Private Club\, Wainwright Street\, Aston\, West Midlands\, B6 
 5TJ\, Birmingham\, United Kingdom
GEO:52.5002541;-1.8779884000000493
X-APPLE-STRUCTURED-LOCATION;VALUE=URI;X-ADDRESS=Wainwright Street\, Aston\,
  West Midlands\, B6 5TJ\, Birmingham\, United Kingdom;X-APPLE-RADIUS=100;X
 -TITLE=The Private Club:geo:52.5002541,-1.8779884000000493
END:VEVENT
END:VCALENDAR