BEGIN:VCALENDAR
VERSION:2.0
PRODID:-//wp-events-plugin.com//7.2.3.1//EN
BEGIN:VEVENT
UID:26@blog.ukxxxpass.xxx
DTSTART:20161027T200000Z
DTEND:20161027T223000Z
DTSTAMP:20160926T213828Z
URL:https://blog.ukxxxpass.xxx/events/october-27th-bukkake-and-gangbang-pa
 rty-tyla-moore-isabella-bangs/
SUMMARY:October 27th bukkake and gangbang party with Tyla Moore and Isabell
 a Bangs
DESCRIPTION:October 27th bukkake and gangbang party with Isabella Bangs and
  Birthday girl Tyla Moore. Hallowe'en special adult party - 'From Dusk 'ti
 ll Porn'
ATTACH;FMTTYPE=image/jpeg:https://i0.wp.com/blog.ukxxxpass.xxx/wp-content/
 uploads/2016/09/October27th.jpg?fit=905%2C1280&ssl=1
LOCATION:Luxury apartment we call the Red Room\, Birmingham\, Birmingham\, 
 B19 3LN\, United Kingdom
GEO:52.4867716;-1.9011717999999291
X-APPLE-STRUCTURED-LOCATION;VALUE=URI;X-ADDRESS=Birmingham\, Birmingham\, B
 19 3LN\, United Kingdom;X-APPLE-RADIUS=100;X-TITLE=Luxury apartment we cal
 l the Red Room:geo:52.4867716,-1.9011717999999291
END:VEVENT
END:VCALENDAR