BEGIN:VCALENDAR
VERSION:2.0
PRODID:-//wp-events-plugin.com//7.2.3.1//EN
BEGIN:VEVENT
UID:148@blog.ukxxxpass.xxx
DTSTART:20220810T194500Z
DTEND:20220810T224500Z
DTSTAMP:20220727T070724Z
URL:https://blog.ukxxxpass.xxx/events/party-10th-august-aloralux-vixen-lil
 y/
SUMMARY:Party 10th August with Aloralux and Vixen Lily (NEW)
DESCRIPTION:Bukkake and gangbang shoot party 10th August 2022 at Dare2Swing
  club Bristol\, 8pm\, featuring lovely Aloralux and Vixen Lily (NEW). Come
  along and join in!!!
ATTACH;FMTTYPE=image/jpeg:https://i0.wp.com/blog.ukxxxpass.xxx/wp-content/
 uploads/2022/07/Aug10th_BRISTOL.jpg?fit=1275%2C1875&ssl=1
LOCATION:Dare2Swing\, 1 Alfred Street\, St. Philips\, Bristol\, BS2 ORF\, U
 nited Kingdom
X-APPLE-STRUCTURED-LOCATION;VALUE=URI;X-ADDRESS=1 Alfred Street\, St. Phili
 ps\, Bristol\, BS2 ORF\, United Kingdom;X-APPLE-RADIUS=100;X-TITLE=Dare2Sw
 ing:geo:0,0
END:VEVENT
END:VCALENDAR