BEGIN:VCALENDAR
VERSION:2.0
PRODID:-//wp-events-plugin.com//7.2.3.1//EN
BEGIN:VEVENT
UID:126@blog.ukxxxpass.xxx
DTSTART:20211110T200000Z
DTEND:20211110T233000Z
DTSTAMP:20211027T163133Z
URL:https://blog.ukxxxpass.xxx/events/party-10th-november-talula-thomas-me
 lody-pleasure/
SUMMARY:Party 10th November with Talula Thomas and Melody Pleasure
DESCRIPTION:Gangbang shoot party 10th November 2021 at Dare2Swing club Bris
 tol\, 8pm\, featuring stunning Dutch model Melody Pleasure and Talula Thom
 as. Come along and join in!
ATTACH;FMTTYPE=image/jpeg:https://i0.wp.com/blog.ukxxxpass.xxx/wp-content/
 uploads/2021/10/Nov10th_BRISTOL-1.jpg?fit=1275%2C1875&ssl=1
LOCATION:Dare2Swing\, 1 Alfred Street\, St. Philips\, Bristol\, BS2 ORF\, U
 nited Kingdom
X-APPLE-STRUCTURED-LOCATION;VALUE=URI;X-ADDRESS=1 Alfred Street\, St. Phili
 ps\, Bristol\, BS2 ORF\, United Kingdom;X-APPLE-RADIUS=100;X-TITLE=Dare2Sw
 ing:geo:0,0
END:VEVENT
END:VCALENDAR