BEGIN:VCALENDAR
VERSION:2.0
PRODID:-//wp-events-plugin.com//7.2.3.1//EN
BEGIN:VEVENT
UID:133@blog.ukxxxpass.xxx
DTSTART:20220413T200000Z
DTEND:20220413T233000Z
DTSTAMP:20220329T065210Z
URL:https://blog.ukxxxpass.xxx/events/party-13th-april-mandy-foxxx-talula-
 thomas/
SUMMARY:Party 13th April with Mandy Foxxx and Talula Thomas
DESCRIPTION:Gangbang shoot party 13th April 2022 at Dare2Swing club Bristol
 \, 8pm\, featuring stunning models Mandy Foxxx and Talula Thomas. Come alo
 ng and join in!
ATTACH;FMTTYPE=image/jpeg:https://i0.wp.com/blog.ukxxxpass.xxx/wp-content/
 uploads/2022/03/Apr13th_BRISTOL.jpg?fit=1275%2C1875&ssl=1
LOCATION:Dare2Swing\, 1 Alfred Street\, St. Philips\, Bristol\, BS2 ORF\, U
 nited Kingdom
X-APPLE-STRUCTURED-LOCATION;VALUE=URI;X-ADDRESS=1 Alfred Street\, St. Phili
 ps\, Bristol\, BS2 ORF\, United Kingdom;X-APPLE-RADIUS=100;X-TITLE=Dare2Sw
 ing:geo:0,0
END:VEVENT
END:VCALENDAR