BEGIN:VCALENDAR
VERSION:2.0
PRODID:-//wp-events-plugin.com//7.2.3.1//EN
BEGIN:VEVENT
UID:149@blog.ukxxxpass.xxx
DTSTART:20220914T194500Z
DTEND:20220914T224500Z
DTSTAMP:20220906T203030Z
URL:https://blog.ukxxxpass.xxx/events/party-14th-september-kimberleyx-melo
 dy-pleasure/
SUMMARY:Party 14th September with Euro stars KimberlyX and Melody Pleasure
DESCRIPTION:Euro stars gangbang shoot party 14th September 2022 at Dare2Swi
 ng club Bristol\, 8pm\, featuring Belgian pornstar Kimberly X and Dutch st
 ar Melody Pleasure (NEW). Come along and join in!!!
ATTACH;FMTTYPE=image/jpeg:https://i0.wp.com/blog.ukxxxpass.xxx/wp-content/
 uploads/2022/08/Sep14th_Bristol.jpg?fit=1275%2C1875&ssl=1
LOCATION:Dare2Swing\, 1 Alfred Street\, St. Philips\, Bristol\, BS2 ORF\, U
 nited Kingdom
X-APPLE-STRUCTURED-LOCATION;VALUE=URI;X-ADDRESS=1 Alfred Street\, St. Phili
 ps\, Bristol\, BS2 ORF\, United Kingdom;X-APPLE-RADIUS=100;X-TITLE=Dare2Sw
 ing:geo:0,0
END:VEVENT
END:VCALENDAR