BEGIN:VCALENDAR
VERSION:2.0
PRODID:-//wp-events-plugin.com//7.2.3.1//EN
BEGIN:VEVENT
UID:115@blog.ukxxxpass.xxx
DTSTART:20210722T200000Z
DTEND:20210722T223000Z
DTSTAMP:20210712T184758Z
URL:https://blog.ukxxxpass.xxx/events/party-22nd-july-aloralux-mandy-foxxx
 /
SUMMARY:Party 22nd July (sorry guys\, now fully booked)
DESCRIPTION:Bukkake and gangbang 22nd July at the Fantasy Den Walsall\, wit
 h models Aloralux and Mandy Foxxx. Event now fully booked\, sorry guys!
ATTACH;FMTTYPE=image/jpeg:https://i0.wp.com/blog.ukxxxpass.xxx/wp-content/
 uploads/2021/07/JULY22nd_WALSALL.jpg?fit=905%2C1280&ssl=1
LOCATION:The Fantasy Den\, 33 Midland Road\, Walsall\, West Midlands\, WS1 
 3QQ\, United Kingdom
X-APPLE-STRUCTURED-LOCATION;VALUE=URI;X-ADDRESS=33 Midland Road\, Walsall\,
  West Midlands\, WS1 3QQ\, United Kingdom;X-APPLE-RADIUS=100;X-TITLE=The F
 antasy Den:geo:0,0
END:VEVENT
END:VCALENDAR