BEGIN:VCALENDAR
VERSION:2.0
PRODID:-//wp-events-plugin.com//7.2.3.1//EN
BEGIN:VEVENT
UID:140@blog.ukxxxpass.xxx
DTSTART:20220623T200000Z
DTEND:20220623T233000Z
DTSTAMP:20220619T205833Z
URL:https://blog.ukxxxpass.xxx/events/party-23rd-june-tamsin-riley-classy-
 filth-aurora-frost/
SUMMARY:Party 23rd June with Tamsin Riley\, Classy Filth and Aurora Frost
DESCRIPTION:Bukkake and Gangbang party\, 23rd June 8:00pm at the Private Cl
 ub\, Aston\, Birmingham. With feature models Tamsin Riley\, Aurora Frost a
 nd Classy Filth. Come and join in!
ATTACH;FMTTYPE=image/jpeg:https://i0.wp.com/blog.ukxxxpass.xxx/wp-content/
 uploads/2022/05/June23rd_Birmingham-1-scaled.jpg?fit=1810%2C2560&ssl=1
LOCATION:The Private Club\, Wainwright Street\, Aston\, West Midlands\, B6 
 5TJ\, Birmingham\, United Kingdom
GEO:52.5002541;-1.8779884000000493
X-APPLE-STRUCTURED-LOCATION;VALUE=URI;X-ADDRESS=Wainwright Street\, Aston\,
  West Midlands\, B6 5TJ\, Birmingham\, United Kingdom;X-APPLE-RADIUS=100;X
 -TITLE=The Private Club:geo:52.5002541,-1.8779884000000493
END:VEVENT
END:VCALENDAR