BEGIN:VCALENDAR
VERSION:2.0
PRODID:-//wp-events-plugin.com//7.2.3.1//EN
BEGIN:VEVENT
UID:116@blog.ukxxxpass.xxx
DTSTART:20210803T200000Z
DTEND:20210803T223000Z
DTSTAMP:20210728T172602Z
URL:https://blog.ukxxxpass.xxx/events/party-3rd-aug-mandy-foxxx-sexy-cleo/
SUMMARY:Party 3rd August with Mandy Foxxx and Sexy Cleo
DESCRIPTION:Bukkake and gangbang 3rd August at the Fantasy Den Walsall\, wi
 th models Mandy Foxxx and Sexy Cleo. Come along and join in!
ATTACH;FMTTYPE=image/jpeg:https://i0.wp.com/blog.ukxxxpass.xxx/wp-content/
 uploads/2021/07/AUG3rd_WALSALL-1-scaled.jpg?fit=1810%2C2560&ssl=1
LOCATION:The Fantasy Den\, 33 Midland Road\, Walsall\, West Midlands\, WS1 
 3QQ\, United Kingdom
X-APPLE-STRUCTURED-LOCATION;VALUE=URI;X-ADDRESS=33 Midland Road\, Walsall\,
  West Midlands\, WS1 3QQ\, United Kingdom;X-APPLE-RADIUS=100;X-TITLE=The F
 antasy Den:geo:0,0
END:VEVENT
END:VCALENDAR