BEGIN:VCALENDAR
VERSION:2.0
PRODID:-//wp-events-plugin.com//7.2.3.1//EN
BEGIN:VEVENT
UID:163@blog.ukxxxpass.xxx
DTSTART:20230503T193000Z
DTEND:20230503T223000Z
DTSTAMP:20230419T182927Z
URL:https://blog.ukxxxpass.xxx/events/party-3rd-may-satine-spark-bethan-bl
 ack/
SUMMARY:Party 3rd May with Satine Spark and Bethan Black
DESCRIPTION:3rd May\, 7:30pm at Dare2 in Bristol. Bukkake and Gangbang with
  Satine Spark and Bethan Black. Come along and join in!
ATTACH;FMTTYPE=image/jpeg:https://i0.wp.com/blog.ukxxxpass.xxx/wp-content/
 uploads/2023/04/May3rd_BRISTOL.jpg?fit=1275%2C1875&ssl=1
LOCATION:Dare2Swing\, 1 Alfred Street\, St. Philips\, Bristol\, BS2 ORF\, U
 nited Kingdom
X-APPLE-STRUCTURED-LOCATION;VALUE=URI;X-ADDRESS=1 Alfred Street\, St. Phili
 ps\, Bristol\, BS2 ORF\, United Kingdom;X-APPLE-RADIUS=100;X-TITLE=Dare2Sw
 ing:geo:0,0
END:VEVENT
END:VCALENDAR