BEGIN:VCALENDAR
VERSION:2.0
PRODID:-//wp-events-plugin.com//7.2.3.1//EN
BEGIN:VEVENT
UID:120@blog.ukxxxpass.xxx
DTSTART:20211007T200000Z
DTEND:20211007T230000Z
DTSTAMP:20210930T112428Z
URL:https://blog.ukxxxpass.xxx/events/party-7th-october-talulathomas-auror
 a-frost/
SUMMARY:Party 7th October with Talula Thomas and Aurora Frost
DESCRIPTION:Bukkake and gangbang 7th October at Roxy's Den Walsall\, with m
 odels Talula Thomas and Aurora Frost. Come along and join in!
ATTACH;FMTTYPE=image/jpeg:https://i0.wp.com/blog.ukxxxpass.xxx/wp-content/
 uploads/2021/08/OCT7th_WALSALL-1-scaled.jpg?fit=1810%2C2560&ssl=1
LOCATION:Roxy's Den\, 33 Midland Road\, Walsall\, West Midlands\, WS1 3QQ\,
  United Kingdom
X-APPLE-STRUCTURED-LOCATION;VALUE=URI;X-ADDRESS=33 Midland Road\, Walsall\,
  West Midlands\, WS1 3QQ\, United Kingdom;X-APPLE-RADIUS=100;X-TITLE=Roxy'
 s Den:geo:0,0
END:VEVENT
END:VCALENDAR