BEGIN:VCALENDAR
VERSION:2.0
PRODID:-//wp-events-plugin.com//7.2.3.1//EN
BEGIN:VEVENT
UID:23@blog.ukxxxpass.xxx
DTSTART:20160922T200000Z
DTEND:20160922T223000Z
DTSTAMP:20160828T214447Z
URL:https://blog.ukxxxpass.xxx/events/september-22nd-bukkake-gangbang-alex
 xavice-gina-jameson/
SUMMARY:September 22nd bukkake and gangbang party with AlexxaVice and Gina 
 Lynn Jameson
DESCRIPTION:September 22nd bukkake and gangbang party with AlexxaVice and s
 exy Gina Lynn Jameson
ATTACH;FMTTYPE=image/jpeg:https://i0.wp.com/blog.ukxxxpass.xxx/wp-content/
 uploads/2016/08/September22nd.jpg?fit=905%2C1280&ssl=1
LOCATION:Luxury apartment we call the Red Room\, Birmingham\, Birmingham\, 
 B19 3LN\, United Kingdom
GEO:52.4867716;-1.9011717999999291
X-APPLE-STRUCTURED-LOCATION;VALUE=URI;X-ADDRESS=Birmingham\, Birmingham\, B
 19 3LN\, United Kingdom;X-APPLE-RADIUS=100;X-TITLE=Luxury apartment we cal
 l the Red Room:geo:52.4867716,-1.9011717999999291
END:VEVENT
END:VCALENDAR