BEGIN:VCALENDAR
VERSION:2.0
PRODID:-//wp-events-plugin.com//7.2.3.1//EN
BEGIN:VEVENT
UID:24@blog.ukxxxpass.xxx
DTSTART:20160928T200000Z
DTEND:20160928T223000Z
DTSTAMP:20160901T192246Z
URL:https://blog.ukxxxpass.xxx/events/september-28th-bukkake-gangbang-tyla
 -moore-lola-marie/
SUMMARY:September 28th bukkake and gangbang party with Tyla Moore and Lola 
 Marie
DESCRIPTION:Bukkake and gangbang party\, Bristol\, 28th September with a co
 uple of our favourites- ebony pornstar Lola Marie will be joined by the di
 vine Tyla Moore.
ATTACH;FMTTYPE=image/jpeg:https://i0.wp.com/blog.ukxxxpass.xxx/wp-content/
 uploads/2016/09/September28th.jpg?fit=905%2C1280&ssl=1
LOCATION:Top Floor Discreet apartments\, Bristol\, Bristol\, Avon\, BS15\, 
 Details to Follow\, United Kingdom
GEO:51.43989939999999;-2.5230238000000327
X-APPLE-STRUCTURED-LOCATION;VALUE=URI;X-ADDRESS=Bristol\, Bristol\, Avon\, 
 BS15\, Details to Follow\, United Kingdom;X-APPLE-RADIUS=100;X-TITLE=Top F
 loor Discreet apartments:geo:51.43989939999999,-2.5230238000000327
END:VEVENT
END:VCALENDAR