BEGIN:VCALENDAR
VERSION:2.0
PRODID:-//wp-events-plugin.com//7.2.3.1//EN
BEGIN:VEVENT
UID:147@blog.ukxxxpass.xxx
DTSTART;VALUE=DATE:20220830
DTEND;VALUE=DATE:20220831
DTSTAMP:20220718T070017Z
URL:https://blog.ukxxxpass.xxx/events/super-milfs-party-30th-aug-emma-star
 r/
SUMMARY:SuperMILFs gangbang ft. Emma Starr\, Rebecca Smyth and Epiphany Jon
 es
DESCRIPTION:International SuperMILfs Gangbang party\, 30th July at the Priv
 ate Club\, Aston\, Birmingham. 12 noon and 7pm sessions\, featuring US mod
 el Emma Starr\, Rebecca Smyth and Epiphany Jones. Come and join in!
ATTACH;FMTTYPE=image/jpeg:https://i0.wp.com/blog.ukxxxpass.xxx/wp-content/
 uploads/2022/07/Aug30th_Birmingham-scaled.jpg?fit=1810%2C2560&ssl=1
LOCATION:The Private Club\, Wainwright Street\, Aston\, West Midlands\, B6 
 5TJ\, Birmingham\, United Kingdom
GEO:52.5002541;-1.8779884000000493
X-APPLE-STRUCTURED-LOCATION;VALUE=URI;X-ADDRESS=Wainwright Street\, Aston\,
  West Midlands\, B6 5TJ\, Birmingham\, United Kingdom;X-APPLE-RADIUS=100;X
 -TITLE=The Private Club:geo:52.5002541,-1.8779884000000493
END:VEVENT
END:VCALENDAR