BEGIN:VCALENDAR
VERSION:2.0
PRODID:-//wp-events-plugin.com//7.2.3.1//EN
BEGIN:VEVENT
UID:157@blog.ukxxxpass.xxx
DTSTART:20230207T200000Z
DTEND:20230207T233000Z
DTSTAMP:20230206T111211Z
URL:https://blog.ukxxxpass.xxx/events/valentines-special-7th-february-2023
 /
SUMMARY:Postponed -- Valentines Special 7th February
DESCRIPTION:Valentines Bukkake and Gangbang party\, 7th February in Birming
 ham with Bethan Black\, Ganjababe and Tamsin Riley. Come and join in!
ATTACH;FMTTYPE=image/jpeg:https://i0.wp.com/blog.ukxxxpass.xxx/wp-content/
 uploads/2023/01/Feb7th_Bham_Valentines.jpg?fit=1350%2C1950&ssl=1
LOCATION:The Private Club\, Wainwright Street\, Aston\, West Midlands\, B6 
 5TJ\, Birmingham\, United Kingdom
GEO:52.5002541;-1.8779884000000493
X-APPLE-STRUCTURED-LOCATION;VALUE=URI;X-ADDRESS=Wainwright Street\, Aston\,
  West Midlands\, B6 5TJ\, Birmingham\, United Kingdom;X-APPLE-RADIUS=100;X
 -TITLE=The Private Club:geo:52.5002541,-1.8779884000000493
END:VEVENT
END:VCALENDAR